BEGIN:VCALENDAR
VERSION:2.0
PRODID:icalendar-ruby
CALSCALE:GREGORIAN
METHOD:PUBLISH
BEGIN:VEVENT
DTSTAMP:20260424T234509Z
UID:916-856151@auroraunitedchurch.ca
DTSTART:20260927T150000Z
DTEND:20260927T160000Z
CLASS:PUBLIC
CREATED:20260424T173048
DESCRIPTION:
LAST-MODIFIED:20260424T173048
LOCATION:Trinity Anglican Church Sanctuary
SUMMARY:AUC Worship
URL;VALUE=URI:https://www.auroraunitedchurch.ca/events/auc-worship/2026-09-
 27
END:VEVENT
END:VCALENDAR
