BEGIN:VCALENDAR
VERSION:2.0
PRODID:icalendar-ruby
CALSCALE:GREGORIAN
METHOD:PUBLISH
BEGIN:VEVENT
DTSTAMP:20260425T032035Z
UID:916-856586@auroraunitedchurch.ca
DTSTART:20261011T150000Z
DTEND:20261011T160000Z
CLASS:PUBLIC
CREATED:20260424T201836
DESCRIPTION:
LAST-MODIFIED:20260424T201836
LOCATION:Trinity Anglican Church Sanctuary
SUMMARY:AUC Worship
URL;VALUE=URI:https://www.auroraunitedchurch.ca/events/auc-worship/2026-10-
 11
END:VEVENT
END:VCALENDAR
