BEGIN:VCALENDAR
VERSION:2.0
PRODID:icalendar-ruby
CALSCALE:GREGORIAN
METHOD:PUBLISH
BEGIN:VEVENT
DTSTAMP:20260424T095042Z
UID:838-853777@auroraunitedchurch.ca
DTSTART:20260819T210000Z
DTEND:20260819T220000Z
CLASS:PUBLIC
CREATED:20260423T204229
DESCRIPTION:
LAST-MODIFIED:20260423T204229
LOCATION:Trinity Anglican Church
SUMMARY:Welcome Table
URL;VALUE=URI:https://www.auroraunitedchurch.ca/events/welcome-table/2026-0
 8-19
ATTACH;FILENAME=Blessed to Serve #5.WT.png;FMTTYPE=image/png:https://dq5pwp
 g1q8ru0.cloudfront.net/2022/11/21/09/10/02/3b9e6432-8f7e-4a3c-b075-9c2f2ee
 36c96/Blessed%20to%20Serve%20%235.WT.png
END:VEVENT
END:VCALENDAR
